BEGIN:VCALENDAR
VERSION:2.0
PRODID:-//Pishkun A.C. - ECPv6.15.20//NONSGML v1.0//EN
CALSCALE:GREGORIAN
METHOD:PUBLISH
X-ORIGINAL-URL:https://pishkunac.com
X-WR-CALDESC:Events for Pishkun A.C.
REFRESH-INTERVAL;VALUE=DURATION:PT1H
X-Robots-Tag:noindex
X-PUBLISHED-TTL:PT1H
BEGIN:VTIMEZONE
TZID:UTC
BEGIN:STANDARD
TZOFFSETFROM:+0000
TZOFFSETTO:+0000
TZNAME:UTC
DTSTART:20220101T000000
END:STANDARD
END:VTIMEZONE
BEGIN:VEVENT
DTSTART;VALUE=DATE:20240530
DTEND;VALUE=DATE:20240603
DTSTAMP:20260424T191645
CREATED:20240108T024801Z
LAST-MODIFIED:20240108T024801Z
UID:1107-1717027200-1717372799@pishkunac.com
SUMMARY:TAC - 7 SPRINGS\, PA
DESCRIPTION:
URL:https://pishkunac.com/event/tac-7-springs-pa-2/
LOCATION:Seven Springs Mountain Resort\, 777 Waterwheel Dr.\, Seven Springs\, PA\, 15622\, United States
END:VEVENT
BEGIN:VEVENT
DTSTART;VALUE=DATE:20240524
DTEND;VALUE=DATE:20240527
DTSTAMP:20260424T191645
CREATED:20240108T024619Z
LAST-MODIFIED:20240108T024619Z
UID:1105-1716508800-1716767999@pishkunac.com
SUMMARY:TAC - KILLINGTON/PICO\, VT
DESCRIPTION:
URL:https://pishkunac.com/event/tac-killington-pico-vt-2/
LOCATION:Pico Mountain Resort\, 73 Alpine Drive\, Mendon\, VT\, 05701\, United States
END:VEVENT
BEGIN:VEVENT
DTSTART;VALUE=DATE:20240517
DTEND;VALUE=DATE:20240520
DTSTAMP:20260424T191645
CREATED:20240108T030235Z
LAST-MODIFIED:20240108T030235Z
UID:1121-1715904000-1716163199@pishkunac.com
SUMMARY:BEAST MODE Archery Challenge - King of the Mound 3D
DESCRIPTION:
URL:https://pishkunac.com/event/beast-mode-archery-challenge-king-of-the-mound-3d/
LOCATION:Bruce Mound Winter Sports Area\, N791 Bruce Mound Avenue\, Merrillian\, WI\, 54754\, United States
END:VEVENT
BEGIN:VEVENT
DTSTART;VALUE=DATE:20240517
DTEND;VALUE=DATE:20240520
DTSTAMP:20260424T191645
CREATED:20240108T023135Z
LAST-MODIFIED:20240225T203455Z
UID:1087-1715904000-1716163199@pishkunac.com
SUMMARY:MAF – McCully Heritage Project
DESCRIPTION:
URL:https://pishkunac.com/event/maf-pere-marquette-state-park/
LOCATION:McCully Heritage Project\, Crawford Creek Rd\, Kampsville\, IL\, 62053\, United States
ATTACH;FMTTYPE=application/pdf:https://pishkunac.com/wp-content/uploads/2024/01/2024-MAF-Flyer-PereMarquette_20240114-1.pdf
END:VEVENT
BEGIN:VEVENT
DTSTART;VALUE=DATE:20240503
DTEND;VALUE=DATE:20240506
DTSTAMP:20260424T191645
CREATED:20240225T194819Z
LAST-MODIFIED:20240225T194819Z
UID:1289-1714694400-1714953599@pishkunac.com
SUMMARY:TAC – IRON MOUNTAIN PARK\, GEORGIA
DESCRIPTION:
URL:https://pishkunac.com/event/tac-iron-mountain-park-georgia/
LOCATION:Iron Mountain Park\, 116 Iron Mountain Parkway\, Dahlonega\, GA\, 30533\, United States
END:VEVENT
BEGIN:VEVENT
DTSTART;VALUE=DATE:20240503
DTEND;VALUE=DATE:20240505
DTSTAMP:20260424T191645
CREATED:20240108T022851Z
LAST-MODIFIED:20240115T051949Z
UID:1085-1714694400-1714867199@pishkunac.com
SUMMARY:MAF - Camp Freedom
DESCRIPTION:
URL:https://pishkunac.com/event/maf-camp-freedom-2/
LOCATION:Camp Freedom\, 284 Number 7 Rd\, Carbondale\, PA\, 18407\, United States
ATTACH;FMTTYPE=application/pdf:https://pishkunac.com/wp-content/uploads/2024/01/2024-MAF-Flyer-CampFreedom_20240114.pdf
END:VEVENT
BEGIN:VEVENT
DTSTART;VALUE=DATE:20240426
DTEND;VALUE=DATE:20240429
DTSTAMP:20260424T191645
CREATED:20240108T024416Z
LAST-MODIFIED:20240108T024416Z
UID:1103-1714089600-1714348799@pishkunac.com
SUMMARY:TAC - SAN ANTONIO\, TX
DESCRIPTION:
URL:https://pishkunac.com/event/tac-san-antonio-tx/
LOCATION:Natural Bridge Caverns\, 26495 Natural Bridge Caverns Road\, San Antonio\, OK\, United States
END:VEVENT
BEGIN:VEVENT
DTSTART;VALUE=DATE:20240419
DTEND;VALUE=DATE:20240422
DTSTAMP:20260424T191645
CREATED:20240108T024230Z
LAST-MODIFIED:20240108T024230Z
UID:1101-1713484800-1713743999@pishkunac.com
SUMMARY:TAC - BEAVER'S BEND\, OK
DESCRIPTION:
URL:https://pishkunac.com/event/tac-beavers-bend-ok/
LOCATION:Beaver’s Bend State Park\, Coyote Drive Campground\, Broken Bow\, OK\, 74728\, United States
END:VEVENT
BEGIN:VEVENT
DTSTART;VALUE=DATE:20240419
DTEND;VALUE=DATE:20240421
DTSTAMP:20260424T191645
CREATED:20240108T022747Z
LAST-MODIFIED:20240115T051848Z
UID:1082-1713484800-1713657599@pishkunac.com
SUMMARY:MAF - Kingston Downs
DESCRIPTION:
URL:https://pishkunac.com/event/maf-kingston-downs-2/
LOCATION:Kingston Downs\, 0 Gore Springs Rd SE\, Rome\, GA\, 30161\, United States
ATTACH;FMTTYPE=application/pdf:https://pishkunac.com/wp-content/uploads/2024/01/2024-MAF-Flyer-KingstonDowns_20240114-1.pdf
END:VEVENT
BEGIN:VEVENT
DTSTART;VALUE=DATE:20240412
DTEND;VALUE=DATE:20240414
DTSTAMP:20260424T191645
CREATED:20240108T022425Z
LAST-MODIFIED:20240225T203132Z
UID:1079-1712880000-1713052799@pishkunac.com
SUMMARY:MAF – Mammoth Valley Park
DESCRIPTION:
URL:https://pishkunac.com/event/maf-southern-u-s/
LOCATION:Mammoth Valley Park\, 3061 Mammoth Cave Rd\, Cave City\, KY\, 42127\, United States
END:VEVENT
BEGIN:VEVENT
DTSTART;VALUE=DATE:20230728
DTEND;VALUE=DATE:20230731
DTSTAMP:20260424T191645
CREATED:20230412T081013Z
LAST-MODIFIED:20230412T081013Z
UID:657-1690502400-1690761599@pishkunac.com
SUMMARY:NW Mountain Challenge - STEVENS PASS
DESCRIPTION:
URL:https://pishkunac.com/event/nw-mountain-challenge-stevens-pass/
LOCATION:Stevens Pass Ski Resort\, US-2\, SKYKOMISH\, WA\, 98288\, United States
END:VEVENT
BEGIN:VEVENT
DTSTART;VALUE=DATE:20230728
DTEND;VALUE=DATE:20230731
DTSTAMP:20260424T191645
CREATED:20230412T074945Z
LAST-MODIFIED:20230412T074945Z
UID:632-1690502400-1690761599@pishkunac.com
SUMMARY:BEAST MODE Archery Challenge - King of the Hill 3D
DESCRIPTION:
URL:https://pishkunac.com/event/beast-mode-archery-challenge-king-of-the-hill-3d/
LOCATION:Tyrol Basin Ski Resort\, 3487 Bohn Road\, Mt Horeb\, WI\, 53572\, United States
END:VEVENT
BEGIN:VEVENT
DTSTART;VALUE=DATE:20230728
DTEND;VALUE=DATE:20230731
DTSTAMP:20260424T191645
CREATED:20230412T074518Z
LAST-MODIFIED:20230412T074518Z
UID:628-1690502400-1690761599@pishkunac.com
SUMMARY:HIKE to HUNT - Arizona Nordic Village
DESCRIPTION:
URL:https://pishkunac.com/event/hike-to-hunt-arizona-nordic-village/
LOCATION:Arizona Nordic Village\, 16848 US-180\, Flagstaff\, AZ\, 86001\, United States
END:VEVENT
BEGIN:VEVENT
DTSTART;VALUE=DATE:20230724
DTEND;VALUE=DATE:20230801
DTSTAMP:20260424T191645
CREATED:20230412T075317Z
LAST-MODIFIED:20230412T075317Z
UID:636-1690156800-1690847999@pishkunac.com
SUMMARY:2023 BOWFEST
DESCRIPTION:
URL:https://pishkunac.com/event/2023-bowfest/
LOCATION:Mount Du Lac Resort\, 3125 S Mont Du Lac Rd\, Superior\, WI\, 54880\, United States
END:VEVENT
BEGIN:VEVENT
DTSTART;VALUE=DATE:20230721
DTEND;VALUE=DATE:20230724
DTSTAMP:20260424T191645
CREATED:20230412T064146Z
LAST-MODIFIED:20230412T064146Z
UID:584-1689897600-1690156799@pishkunac.com
SUMMARY:MAF - Blacktail Mountain
DESCRIPTION:
URL:https://pishkunac.com/event/maf-blacktail-mountain/
LOCATION:Blacktail Mountain\, 13990 Blacktail Rd\, Lakeside\, MT\, 59922\, United States
END:VEVENT
BEGIN:VEVENT
DTSTART;VALUE=DATE:20230720
DTEND;VALUE=DATE:20230724
DTSTAMP:20260424T191645
CREATED:20230412T070614Z
LAST-MODIFIED:20230412T070614Z
UID:615-1689811200-1690156799@pishkunac.com
SUMMARY:TAC - Solitude/Brighton\, UT
DESCRIPTION:
URL:https://pishkunac.com/event/tac-solitude-brighton-ut/
LOCATION:Solitude Mountain Resort\, 12000 S Big Cottonwood Canyon Rd.\, Solitude\, UT\, UT\, 84121\, United States
END:VEVENT
BEGIN:VEVENT
DTSTART;VALUE=DATE:20230715
DTEND;VALUE=DATE:20230717
DTSTAMP:20260424T191645
CREATED:20230412T074256Z
LAST-MODIFIED:20230412T074533Z
UID:625-1689379200-1689551999@pishkunac.com
SUMMARY:HIKE to HUNT - Angel Fire Resort
DESCRIPTION:
URL:https://pishkunac.com/event/hike-to-hunt-angel-fire-resort/
LOCATION:Angel Fire Resort\, 10 Miller Ln.\, Angel Fire\, NM\, 87710\, United States
END:VEVENT
BEGIN:VEVENT
DTSTART;VALUE=DATE:20230714
DTEND;VALUE=DATE:20230717
DTSTAMP:20260424T191645
CREATED:20230412T080813Z
LAST-MODIFIED:20230412T080813Z
UID:653-1689292800-1689551999@pishkunac.com
SUMMARY:NW Mountain Challenge - HOODOO
DESCRIPTION:
URL:https://pishkunac.com/event/nw-mountain-challenge-hoodoo/
LOCATION:Hoodoo Ski Resort\, HWY 20 BOX 20\, SISTERS\, OR\, 97759\, United States
END:VEVENT
BEGIN:VEVENT
DTSTART;VALUE=DATE:20230714
DTEND;VALUE=DATE:20230717
DTSTAMP:20260424T191645
CREATED:20230412T070315Z
LAST-MODIFIED:20230412T070315Z
UID:612-1689292800-1689551999@pishkunac.com
SUMMARY:TAC - Terry Peak\, SD
DESCRIPTION:
URL:https://pishkunac.com/event/tac-terry-peak-sd/
LOCATION:Terry Peak Ski Area\, 21120 Stewart Slope Rd.\, Lead\, SD\, 57754\, United States
END:VEVENT
BEGIN:VEVENT
DTSTART;VALUE=DATE:20230708
DTEND;VALUE=DATE:20230710
DTSTAMP:20260424T191645
CREATED:20230412T075810Z
LAST-MODIFIED:20230412T075810Z
UID:640-1688774400-1688947199@pishkunac.com
SUMMARY:TOP PIN ARCHERY - The Shootout
DESCRIPTION:
URL:https://pishkunac.com/event/top-pin-archery-the-shootout/
LOCATION:Silver Mountain Resort\, 610 Bunker Avenue\, Kellogg\, ID\, 83837\, United States
END:VEVENT
BEGIN:VEVENT
DTSTART;VALUE=DATE:20230707
DTEND;VALUE=DATE:20230710
DTSTAMP:20260424T191645
CREATED:20230412T070130Z
LAST-MODIFIED:20230412T070130Z
UID:609-1688688000-1688947199@pishkunac.com
SUMMARY:TAC - Sunlight Mountain\, CO
DESCRIPTION:
URL:https://pishkunac.com/event/tac-sunlight-mountain-co/
LOCATION:Sunlight Mountain Resort\, 10901 Co Rd 117\, Glenwood Springs\, CO\, 81601\, United States
END:VEVENT
BEGIN:VEVENT
DTSTART;VALUE=DATE:20230707
DTEND;VALUE=DATE:20230710
DTSTAMP:20260424T191645
CREATED:20230412T064013Z
LAST-MODIFIED:20230412T064013Z
UID:581-1688688000-1688947199@pishkunac.com
SUMMARY:MAF - Antelope Butte Mountain
DESCRIPTION:
URL:https://pishkunac.com/event/maf-antelope-butte-mountain/
LOCATION:Antelope Butte Mountain\, 28 Forest Service Road 244\, Shell\, WY\, 82441
END:VEVENT
BEGIN:VEVENT
DTSTART;VALUE=DATE:20230624
DTEND;VALUE=DATE:20230626
DTSTAMP:20260424T191645
CREATED:20230412T074012Z
LAST-MODIFIED:20230412T074012Z
UID:622-1687564800-1687737599@pishkunac.com
SUMMARY:Team Whiskey® High Sierra Archery Shoot - Bear Valley
DESCRIPTION:
URL:https://pishkunac.com/event/team-whiskey-high-sierra-archery-shoot-bear-valley/
LOCATION:Skyline Bear Valley Ski Resort\, 2280 CA-207\, Bear Valley\, CA\, 95223\, United States
END:VEVENT
BEGIN:VEVENT
DTSTART;VALUE=DATE:20230623
DTEND;VALUE=DATE:20230626
DTSTAMP:20260424T191645
CREATED:20230412T065919Z
LAST-MODIFIED:20230412T065919Z
UID:606-1687478400-1687737599@pishkunac.com
SUMMARY:TAC - Big Sky\, MT
DESCRIPTION:
URL:https://pishkunac.com/event/tac-big-sky-mt/
LOCATION:Big Sky Resort\, 50 Big Sky Resort Rd\, Big Sky\, MT\, 59716\, United States
END:VEVENT
BEGIN:VEVENT
DTSTART;VALUE=DATE:20230623
DTEND;VALUE=DATE:20230626
DTSTAMP:20260424T191645
CREATED:20230412T063658Z
LAST-MODIFIED:20230412T063658Z
UID:578-1687478400-1687737599@pishkunac.com
SUMMARY:MAF - Eagle Point
DESCRIPTION:
URL:https://pishkunac.com/event/maf-eagle-point/
LOCATION:Eagle Point\, 150 S W Village Circle\, Beaver\, UT\, 84713\, United States
END:VEVENT
BEGIN:VEVENT
DTSTART;VALUE=DATE:20230610
DTEND;VALUE=DATE:20230612
DTSTAMP:20260424T191645
CREATED:20230412T073814Z
LAST-MODIFIED:20230412T073814Z
UID:618-1686355200-1686527999@pishkunac.com
SUMMARY:Team Whiskey® High Sierra Archery Shoot - Heavenly
DESCRIPTION:
URL:https://pishkunac.com/event/team-whiskey-high-sierra-archery-shoot-heavenly/
LOCATION:Heavenly Ski Resort\, 3860 Saddle Rd.\, South Lake Tahoe\, CA\, 96150\, United States
END:VEVENT
BEGIN:VEVENT
DTSTART;VALUE=DATE:20230609
DTEND;VALUE=DATE:20230612
DTSTAMP:20260424T191645
CREATED:20230412T080631Z
LAST-MODIFIED:20230412T080631Z
UID:649-1686268800-1686527999@pishkunac.com
SUMMARY:NW Mountain Challenge - TAMARACK
DESCRIPTION:
URL:https://pishkunac.com/event/nw-mountain-challenge-tamarack/
LOCATION:Tamarack Resort\, 311 VILLAGE DRIVE\, TAMARACK\, ID\, 83615\, United States
END:VEVENT
BEGIN:VEVENT
DTSTART;VALUE=DATE:20230609
DTEND;VALUE=DATE:20230612
DTSTAMP:20260424T191645
CREATED:20230412T065741Z
LAST-MODIFIED:20230412T065741Z
UID:603-1686268800-1686527999@pishkunac.com
SUMMARY:TAC - Crystal Mountain\, MI
DESCRIPTION:
URL:https://pishkunac.com/event/tac-crystal-mountain-mi/
LOCATION:Crystal Mountain Resort\, 12500 Crystal Mountain Dr\, Thompsonville\, MI\, 49683\, United States
END:VEVENT
BEGIN:VEVENT
DTSTART;VALUE=DATE:20230609
DTEND;VALUE=DATE:20230612
DTSTAMP:20260424T191645
CREATED:20230412T063500Z
LAST-MODIFIED:20230412T063829Z
UID:575-1686268800-1686527999@pishkunac.com
SUMMARY:MAF - Purgatory Resort
DESCRIPTION:
URL:https://pishkunac.com/event/maf-purgatory-resort/
LOCATION:Purgaroty Resort\, 1 Skier Place\, Durango\, CO\, 81301\, United States
END:VEVENT
BEGIN:VEVENT
DTSTART;VALUE=DATE:20230601
DTEND;VALUE=DATE:20230605
DTSTAMP:20260424T191645
CREATED:20230412T065602Z
LAST-MODIFIED:20230412T065602Z
UID:600-1685577600-1685923199@pishkunac.com
SUMMARY:TAC - 7 Springs\, PA
DESCRIPTION:
URL:https://pishkunac.com/event/tac-7-springs-pa/
LOCATION:Seven Springs Mountain Resort\, 777 Waterwheel Dr.\, Seven Springs\, PA\, 15622\, United States
END:VEVENT
END:VCALENDAR